BEGIN:VCALENDAR
VERSION:2.0
PRODID:-//AudioTheme 1.8.2
BEGIN:VEVENT
UID:https://ericpaskel.com/?post_type=audiotheme_gig&#038;p=5957
URL:https://ericpaskelyoga.com/shows/yoga-gives-st-jude-kids-electric-soul-yoga-la-st-jude-heroes/
DTSTART;TZID=GMT:20190608T160000
SUMMARY:Yoga Gives to St. Jude Kids: Electric Soul Yoga LA - St. Jude Heroes
DESCRIPTION:Yoga Gives to St. Jude Kids  Yoga\, lunch and more...9:00 a.m. - 2:00 p.m.
LOCATION:Electric Soul Yoga\, 12408 Ventura Blvd.\,  Studio City \, CA\, United States\, 91604
END:VEVENT
END:VCALENDAR