BEGIN:VCALENDAR
VERSION:2.0
PRODID:-//AudioTheme 1.8.2
BEGIN:VEVENT
UID:https://ericpaskelyoga.com/?post_type=audiotheme_gig&#038;p=7297
URL:https://ericpaskelyoga.com/shows/yoga-and-wellness-fest/
DTSTART;VALUE=DATE:20240914
SUMMARY:Yoga and Wellness Fest
DESCRIPTION:September 14-15
LOCATION:Yoga Sol Yoga Fest\, 18306 Imperial Hwy\, Yorba Linda\, CA\, United States\, 92886
END:VEVENT
END:VCALENDAR