BEGIN:VCALENDAR
VERSION:2.0
PRODID:-//AudioTheme 1.8.2
BEGIN:VEVENT
UID:https://ericpaskelyoga.com/?post_type=audiotheme_gig&#038;p=7461
URL:https://ericpaskelyoga.com/shows/berkshire-yoga-festival/
DTSTART;VALUE=DATE:20250612
SUMMARY:Berkshire Yoga Festival
DESCRIPTION:June 12-15\, 2025
LOCATION:Berkshire Yoga Festival\, Jiminy Peak Mountain Resort\, Hancock\, MA\, United States
END:VEVENT
END:VCALENDAR