BEGIN:VCALENDAR
VERSION:2.0
PRODID:-//AudioTheme 1.8.2
BEGIN:VEVENT
UID:https://ericpaskelyoga.com/?post_type=audiotheme_gig&#038;p=7478
URL:https://ericpaskelyoga.com/shows/2025-09-26/
DTSTART;VALUE=DATE:20250926
SUMMARY:Me & You in Corfu #2
DESCRIPTION:September 26 - October 5\, 2025
LOCATION:Angsana Resort and Spa\,  11th Km - Kerkyra Lefkimi National Road\, Corfu\, Greece\, Corfu\, 
END:VEVENT
END:VCALENDAR