BEGIN:VCALENDAR
VERSION:2.0
PRODID:-//AudioTheme 1.8.2
BEGIN:VEVENT
UID:https://ericpaskelyoga.com/?post_type=audiotheme_gig&#038;p=7463
URL:https://ericpaskelyoga.com/shows/2025-02-21/
DTSTART;VALUE=DATE:20250221
SUMMARY:Yoga Teacher Training - Crystal Lake, IL
DESCRIPTION:A two day immersion on February 23-24th.  Plus…a 200 hour and 300 hour Life & Teacher Training from February 23-27th
LOCATION:Holiday Inn\, 800 South Route 31\, Crystal Lake\, IL\, United States\, 60014
END:VEVENT
END:VCALENDAR