BEGIN:VCALENDAR
VERSION:2.0
PRODID:-//AudioTheme 1.8.2
BEGIN:VEVENT
UID:https://ericpaskelyoga.com/?post_type=audiotheme_gig&#038;p=7291
URL:https://ericpaskelyoga.com/shows/2024-09-26/
DTSTART;TZID=GMT:20240925T210000
SUMMARY:Me & You In Corfu
DESCRIPTION:September 26 - October 5  Come join Rina and me for 10 days at this beautiful 5 Star resort on the Ionian Sea.
LOCATION:Angsana Resort and Spa\,  11th Km - Kerkyra Lefkimi National Road\, Corfu\, Greece\, Corfu\, 
END:VEVENT
END:VCALENDAR