BEGIN:VCALENDAR
VERSION:2.0
PRODID:-//AudioTheme 1.8.2
BEGIN:VEVENT
UID:https://ericpaskelyoga.com/?post_type=audiotheme_gig&#038;p=7012
URL:https://ericpaskelyoga.com/shows/2023-11-01/
DTSTART;VALUE=DATE:20231101
SUMMARY:Our Journey Home to India
DESCRIPTION:Our Journey Home to India - November 1 - 14\, 2023  
LOCATION:Vedanta Academy\, Malavli 27\, Road\, India\, 410405
END:VEVENT
END:VCALENDAR