BEGIN:VCALENDAR
VERSION:2.0
PRODID:-//AudioTheme 1.8.2
BEGIN:VEVENT
UID:https://ericpaskelyoga.com/?post_type=audiotheme_gig&#038;p=7091
URL:https://ericpaskelyoga.com/shows/2023-09-14/
DTSTART;VALUE=DATE:20230914
SUMMARY:Mammoth Yoga Festival -
DESCRIPTION:September 14 - 17\, 2023
LOCATION:Mammoth Yoga Festival\, Mammoth Lakes  6021 Minaret Rd.\, Mammoth Lakes\, CA\, United States\, 93546
END:VEVENT
END:VCALENDAR