BEGIN:VCALENDAR
VERSION:2.0
PRODID:-//AudioTheme 1.8.2
BEGIN:VEVENT
UID:https://ericpaskelyoga.com/?post_type=audiotheme_gig&#038;p=6858
URL:https://ericpaskelyoga.com/shows/2022-05-22/
DTSTART;VALUE=DATE:20220522
SUMMARY:Peace of Mind Yoga Retreat
DESCRIPTION:A Week of Yoga\, Community\, Peace\, Freedom\, Laughs and Love - May 22-28
LOCATION:Mar de Jade - Chacala\, Mexico\, Mar de Jade No.1\, Playa Chacala\, Nayarit\, Mexico
END:VEVENT
END:VCALENDAR