BEGIN:VCALENDAR
VERSION:2.0
PRODID:-//AudioTheme 1.8.2
BEGIN:VEVENT
UID:https://ericpaskelyoga.com/?post_type=audiotheme_gig&#038;p=6856
URL:https://ericpaskelyoga.com/shows/2022-01-06/
DTSTART;VALUE=DATE:20220106
SUMMARY:Yoga Teacher Training with Eric Paskel and Nancy Meyers
DESCRIPTION:Eric Paskel will be at Happy Hour Yoga from January 6-8. Nancy Meyers will continue the Yoga Teacher Training beginning January 9 through May 22\, 2022
LOCATION:Happy Hour Yoga\, 1500 Carlemont Dr suite b\, Crystal Lake\, Illinois\, United States\, 60014
END:VEVENT
END:VCALENDAR