BEGIN:VCALENDAR
VERSION:2.0
PRODID:-//AudioTheme 1.8.2
BEGIN:VEVENT
UID:https://ericpaskelyoga.com/?post_type=audiotheme_gig&#038;p=6741
URL:https://ericpaskelyoga.com/shows/2021-05-23/
DTSTART;VALUE=DATE:20210523
SUMMARY:"Take Your Joy and Power Back" Yoga Retreat
DESCRIPTION:May 23 - 29
LOCATION:Mar de Jade - Chacala\, Mexico\, Mar de Jade No.1\, Playa Chacala\, Nayarit\, Mexico
END:VEVENT
END:VCALENDAR