BEGIN:VCALENDAR
VERSION:2.0
PRODID:-//AudioTheme 1.8.2
BEGIN:VEVENT
UID:https://ericpaskel.com/?post_type=audiotheme_gig&#038;p=6099
URL:https://ericpaskelyoga.com/shows/2019-10-18/
DTSTART;TZID=GMT:20191018T200000
SUMMARY:Rina and Eric's Life & Yoga Training
DESCRIPTION:October 18 - 28
LOCATION:Electric Soul Yoga\, 12408 Ventura Blvd.\,  Studio City \, CA\, United States\, 91604
END:VEVENT
END:VCALENDAR