BEGIN:VCALENDAR
VERSION:2.0
PRODID:-//AudioTheme 1.8.2
BEGIN:VEVENT
UID:https://ericpaskel.com/?post_type=audiotheme_gig&#038;p=6094
URL:https://ericpaskelyoga.com/shows/2019-10-11/
DTSTART;VALUE=DATE:20191011
SUMMARY:Become Your Best You with MI Life & Teacher Training!
DESCRIPTION:Life Training -  October 11th & October 12 from 7am-9pm\, October 13th from 10am-5pm.   Teacher Training - Weekends of Oct. 17 - 20 & 24 - 27. Final day is November 2.
LOCATION:EnSoul Yoga\, 210 W. Nine Mile Road\, Ferndale\, MI\, United States\, 48220
END:VEVENT
END:VCALENDAR