BEGIN:VCALENDAR
VERSION:2.0
PRODID:-//AudioTheme 1.8.2
BEGIN:VEVENT
UID:https://ericpaskel.com/?post_type=audiotheme_gig&#038;p=5958
URL:https://ericpaskelyoga.com/shows/2019-06-28/
DTSTART;VALUE=DATE:20190628
SUMMARY:LIFE & YTT with ERIC PASKEL & Nancy Meyers
DESCRIPTION:June 28 - July 1  July 10 -14  200 RYT
LOCATION:Happy Hour Yoga\, 1500 Carlemont Dr suite b\, Crystal Lake\, Illinois\, United States\, 60014
END:VEVENT
END:VCALENDAR